BEGIN:VCALENDAR
VERSION:2.0
PRODID:-//Burggymnasium Friedberg - ECPv6.10.2//NONSGML v1.0//EN
CALSCALE:GREGORIAN
METHOD:PUBLISH
X-WR-CALNAME:Burggymnasium Friedberg
X-ORIGINAL-URL:https://burggymnasium-friedberg.de
X-WR-CALDESC:Veranstaltungen für Burggymnasium Friedberg
REFRESH-INTERVAL;VALUE=DURATION:PT1H
X-Robots-Tag:noindex
X-PUBLISHED-TTL:PT1H
BEGIN:VTIMEZONE
TZID:Europe/Berlin
BEGIN:DAYLIGHT
TZOFFSETFROM:+0100
TZOFFSETTO:+0200
TZNAME:CEST
DTSTART:20250330T010000
END:DAYLIGHT
BEGIN:STANDARD
TZOFFSETFROM:+0200
TZOFFSETTO:+0100
TZNAME:CET
DTSTART:20251026T010000
END:STANDARD
END:VTIMEZONE
BEGIN:VEVENT
DTSTART;VALUE=DATE:20250224
DTEND;VALUE=DATE:20250329
DTSTAMP:20260424T122049
CREATED:20250309T160101Z
LAST-MODIFIED:20250625T094751Z
UID:23631-1740355200-1743206399@burggymnasium-friedberg.de
SUMMARY:Schulpraktikanten Uni Gießen
DESCRIPTION:
URL:https://burggymnasium-friedberg.de/termin/schulpraktikanten-uni-giessen/
END:VEVENT
BEGIN:VEVENT
DTSTART;VALUE=DATE:20250303
DTEND;VALUE=DATE:20250308
DTSTAMP:20260424T122049
CREATED:20250309T160102Z
LAST-MODIFIED:20250625T094752Z
UID:23635-1740960000-1741391999@burggymnasium-friedberg.de
SUMMARY:WB-Woche (10.)
DESCRIPTION:Bei der 10. Woche handelt es sich um eine WB-Woche.
URL:https://burggymnasium-friedberg.de/termin/wb-woche-10/
END:VEVENT
BEGIN:VEVENT
DTSTART;TZID=Europe/Berlin:20250306T094500
DTEND;TZID=Europe/Berlin:20250306T111500
DTSTAMP:20260424T122049
CREATED:20250309T160102Z
LAST-MODIFIED:20250625T094752Z
UID:23641-1741254300-1741259700@burggymnasium-friedberg.de
SUMMARY:OVAG Lesung
DESCRIPTION:Die Leistungskurse in Deutsch (Q2 und Q4) nehmen hier an der Lesung in der Aula teil. Die Teilnahme ist verpflichtend.
URL:https://burggymnasium-friedberg.de/termin/ovag-lesung/
END:VEVENT
END:VCALENDAR