BEGIN:VCALENDAR
VERSION:2.0
PRODID:-//Burggymnasium Friedberg - ECPv6.10.2//NONSGML v1.0//EN
CALSCALE:GREGORIAN
METHOD:PUBLISH
X-WR-CALNAME:Burggymnasium Friedberg
X-ORIGINAL-URL:https://burggymnasium-friedberg.de
X-WR-CALDESC:Veranstaltungen für Burggymnasium Friedberg
REFRESH-INTERVAL;VALUE=DURATION:PT1H
X-Robots-Tag:noindex
X-PUBLISHED-TTL:PT1H
BEGIN:VTIMEZONE
TZID:Europe/Berlin
BEGIN:DAYLIGHT
TZOFFSETFROM:+0100
TZOFFSETTO:+0200
TZNAME:CEST
DTSTART:20250330T010000
END:DAYLIGHT
BEGIN:STANDARD
TZOFFSETFROM:+0200
TZOFFSETTO:+0100
TZNAME:CET
DTSTART:20251026T010000
END:STANDARD
END:VTIMEZONE
BEGIN:VEVENT
DTSTART;VALUE=DATE:20250421
DTEND;VALUE=DATE:20250426
DTSTAMP:20260420T182613
CREATED:20250309T160107Z
LAST-MODIFIED:20250625T094755Z
UID:23679-1745193600-1745625599@burggymnasium-friedberg.de
SUMMARY:WA-Woche (17.)
DESCRIPTION:Bei der 17. Woche handelt es sich um eine WA-Woche.
URL:https://burggymnasium-friedberg.de/termin/wa-woche-17/
END:VEVENT
BEGIN:VEVENT
DTSTART;TZID=Europe/Berlin:20250422T170000
DTEND;TZID=Europe/Berlin:20250422T210000
DTSTAMP:20260420T182613
CREATED:20250309T160107Z
LAST-MODIFIED:20250625T094755Z
UID:23681-1745341200-1745355600@burggymnasium-friedberg.de
SUMMARY:Büffelnacht Q4
DESCRIPTION:
URL:https://burggymnasium-friedberg.de/termin/bueffelnacht-q4-2/
END:VEVENT
END:VCALENDAR