BEGIN:VCALENDAR
VERSION:2.0
PRODID:-//Burggymnasium Friedberg - ECPv6.10.2//NONSGML v1.0//EN
CALSCALE:GREGORIAN
METHOD:PUBLISH
X-ORIGINAL-URL:https://burggymnasium-friedberg.de
X-WR-CALDESC:Veranstaltungen für Burggymnasium Friedberg
REFRESH-INTERVAL;VALUE=DURATION:PT1H
X-Robots-Tag:noindex
X-PUBLISHED-TTL:PT1H
BEGIN:VTIMEZONE
TZID:Europe/Berlin
BEGIN:DAYLIGHT
TZOFFSETFROM:+0100
TZOFFSETTO:+0200
TZNAME:CEST
DTSTART:20250330T010000
END:DAYLIGHT
BEGIN:STANDARD
TZOFFSETFROM:+0200
TZOFFSETTO:+0100
TZNAME:CET
DTSTART:20251026T010000
END:STANDARD
END:VTIMEZONE
BEGIN:VEVENT
DTSTART;VALUE=DATE:20250513
DTEND;VALUE=DATE:20250521
DTSTAMP:20260420T152716
CREATED:20250605T182823Z
LAST-MODIFIED:20250625T094757Z
UID:24142-1747094400-1747785599@burggymnasium-friedberg.de
SUMMARY:Kurswahlen der E2 für die Q1 Sj. 25/26
DESCRIPTION:
URL:https://burggymnasium-friedberg.de/termin/kurswahlen-der-e2-fuer-die-q1-sj-25-26/
END:VEVENT
BEGIN:VEVENT
DTSTART;VALUE=DATE:20250519
DTEND;VALUE=DATE:20250524
DTSTAMP:20260420T152716
CREATED:20250309T160113Z
LAST-MODIFIED:20250625T094758Z
UID:23725-1747612800-1748044799@burggymnasium-friedberg.de
SUMMARY:WA-Woche (21.)
DESCRIPTION:Bei der 21. Woche handelt es sich um eine WA-Woche.
URL:https://burggymnasium-friedberg.de/termin/wa-woche-21/
END:VEVENT
END:VCALENDAR