BEGIN:VCALENDAR
VERSION:2.0
PRODID:-//Burggymnasium Friedberg - ECPv6.10.2//NONSGML v1.0//EN
CALSCALE:GREGORIAN
METHOD:PUBLISH
X-WR-CALNAME:Burggymnasium Friedberg
X-ORIGINAL-URL:https://burggymnasium-friedberg.de
X-WR-CALDESC:Veranstaltungen für Burggymnasium Friedberg
REFRESH-INTERVAL;VALUE=DURATION:PT1H
X-Robots-Tag:noindex
X-PUBLISHED-TTL:PT1H
BEGIN:VTIMEZONE
TZID:Europe/Berlin
BEGIN:DAYLIGHT
TZOFFSETFROM:+0100
TZOFFSETTO:+0200
TZNAME:CEST
DTSTART:20250330T010000
END:DAYLIGHT
BEGIN:STANDARD
TZOFFSETFROM:+0200
TZOFFSETTO:+0100
TZNAME:CET
DTSTART:20251026T010000
END:STANDARD
END:VTIMEZONE
BEGIN:VEVENT
DTSTART;VALUE=DATE:20250825
DTEND;VALUE=DATE:20250830
DTSTAMP:20260422T120509
CREATED:20250823T071812Z
LAST-MODIFIED:20250928T231800Z
UID:24547-1756080000-1756511999@burggymnasium-friedberg.de
SUMMARY:WB-Woche (35.)
DESCRIPTION:Bei der 35. Woche handelt es sich um eine WB-Woche.
URL:https://burggymnasium-friedberg.de/termin/wb-woche-35/
END:VEVENT
BEGIN:VEVENT
DTSTART;TZID=Europe/Berlin:20250826T084500
DTEND;TZID=Europe/Berlin:20250826T093000
DTSTAMP:20260422T120509
CREATED:20250605T182833Z
LAST-MODIFIED:20250925T231801Z
UID:24177-1756197900-1756200600@burggymnasium-friedberg.de
SUMMARY:Informationsveranstaltung für E1
DESCRIPTION:
URL:https://burggymnasium-friedberg.de/termin/informationsveranstaltung-fuer-e1-2/
END:VEVENT
BEGIN:VEVENT
DTSTART;TZID=Europe/Berlin:20250826T103000
DTEND;TZID=Europe/Berlin:20250826T111500
DTSTAMP:20260422T120509
CREATED:20250605T182833Z
LAST-MODIFIED:20250925T231801Z
UID:24179-1756204200-1756206900@burggymnasium-friedberg.de
SUMMARY:Informationsveranstaltung für Q1
DESCRIPTION:
URL:https://burggymnasium-friedberg.de/termin/informationsveranstaltung-fuer-q1/
END:VEVENT
BEGIN:VEVENT
DTSTART;TZID=Europe/Berlin:20250826T121500
DTEND;TZID=Europe/Berlin:20250826T130000
DTSTAMP:20260422T120509
CREATED:20250605T182833Z
LAST-MODIFIED:20250925T231801Z
UID:24181-1756210500-1756213200@burggymnasium-friedberg.de
SUMMARY:Informationsveranstaltung für Q3
DESCRIPTION:
URL:https://burggymnasium-friedberg.de/termin/informationsveranstaltung-fuer-q3/
END:VEVENT
END:VCALENDAR