BEGIN:VCALENDAR
VERSION:2.0
PRODID:-//Burggymnasium Friedberg - ECPv6.10.2//NONSGML v1.0//EN
CALSCALE:GREGORIAN
METHOD:PUBLISH
X-ORIGINAL-URL:https://burggymnasium-friedberg.de
X-WR-CALDESC:Veranstaltungen für Burggymnasium Friedberg
REFRESH-INTERVAL;VALUE=DURATION:PT1H
X-Robots-Tag:noindex
X-PUBLISHED-TTL:PT1H
BEGIN:VTIMEZONE
TZID:Europe/Berlin
BEGIN:DAYLIGHT
TZOFFSETFROM:+0100
TZOFFSETTO:+0200
TZNAME:CEST
DTSTART:20250330T010000
END:DAYLIGHT
BEGIN:STANDARD
TZOFFSETFROM:+0200
TZOFFSETTO:+0100
TZNAME:CET
DTSTART:20251026T010000
END:STANDARD
END:VTIMEZONE
BEGIN:VEVENT
DTSTART;VALUE=DATE:20251215
DTEND;VALUE=DATE:20251220
DTSTAMP:20260420T122208
CREATED:20250823T071821Z
LAST-MODIFIED:20260118T231905Z
UID:24583-1765756800-1766188799@burggymnasium-friedberg.de
SUMMARY:WB-Woche (51.)
DESCRIPTION:Bei der 51. Woche handelt es sich um eine WB-Woche.
URL:https://burggymnasium-friedberg.de/termin/wb-woche-51/
END:VEVENT
BEGIN:VEVENT
DTSTART;VALUE=DATE:20251219
DTEND;VALUE=DATE:20251220
DTSTAMP:20260420T122208
CREATED:20250823T071821Z
LAST-MODIFIED:20260118T231905Z
UID:24585-1766102400-1766188799@burggymnasium-friedberg.de
SUMMARY:Prüfung - Meldung zum Abitur
DESCRIPTION:
URL:https://burggymnasium-friedberg.de/termin/pruefung-meldung-zum-abitur/
END:VEVENT
BEGIN:VEVENT
DTSTART;TZID=Europe/Berlin:20251219T094500
DTEND;TZID=Europe/Berlin:20251219T103000
DTSTAMP:20260420T122208
CREATED:20250829T001819Z
LAST-MODIFIED:20260118T231905Z
UID:24745-1766137500-1766140200@burggymnasium-friedberg.de
SUMMARY:TG-Stunde
DESCRIPTION:
URL:https://burggymnasium-friedberg.de/termin/tg-stunde-17/
END:VEVENT
BEGIN:VEVENT
DTSTART;TZID=Europe/Berlin:20251219T094500
DTEND;TZID=Europe/Berlin:20251219T103000
DTSTAMP:20260420T122208
CREATED:20251214T211901Z
LAST-MODIFIED:20260118T231905Z
UID:25289-1766137500-1766140200@burggymnasium-friedberg.de
SUMMARY:TG-Stunde
DESCRIPTION:
URL:https://burggymnasium-friedberg.de/termin/tg-stunde-20/
END:VEVENT
BEGIN:VEVENT
DTSTART;TZID=Europe/Berlin:20251219T103000
DTEND;TZID=Europe/Berlin:20251219T235900
DTSTAMP:20260420T122208
CREATED:20250605T182840Z
LAST-MODIFIED:20260118T231906Z
UID:24233-1766140200-1766188740@burggymnasium-friedberg.de
SUMMARY:Ferienbeginn
DESCRIPTION:
URL:https://burggymnasium-friedberg.de/termin/ferienbeginn-5/
END:VEVENT
END:VCALENDAR