BEGIN:VCALENDAR
VERSION:2.0
PRODID:-//Burggymnasium Friedberg - ECPv6.10.2//NONSGML v1.0//EN
CALSCALE:GREGORIAN
METHOD:PUBLISH
X-WR-CALNAME:Burggymnasium Friedberg
X-ORIGINAL-URL:https://burggymnasium-friedberg.de
X-WR-CALDESC:Veranstaltungen für Burggymnasium Friedberg
REFRESH-INTERVAL;VALUE=DURATION:PT1H
X-Robots-Tag:noindex
X-PUBLISHED-TTL:PT1H
BEGIN:VTIMEZONE
TZID:Europe/Berlin
BEGIN:DAYLIGHT
TZOFFSETFROM:+0100
TZOFFSETTO:+0200
TZNAME:CEST
DTSTART:20260329T010000
END:DAYLIGHT
BEGIN:STANDARD
TZOFFSETFROM:+0200
TZOFFSETTO:+0100
TZNAME:CET
DTSTART:20261025T010000
END:STANDARD
END:VTIMEZONE
BEGIN:VEVENT
DTSTART;TZID=Europe/Berlin:20260616T094500
DTEND;TZID=Europe/Berlin:20260616T111500
DTSTAMP:20260422T104623
CREATED:20260318T231825Z
LAST-MODIFIED:20260422T081816Z
UID:25705-1781603100-1781608500@burggymnasium-friedberg.de
SUMMARY:E1/2f ÄGGF Gesundheitsprävention
DESCRIPTION:
URL:https://burggymnasium-friedberg.de/termin/e1-2f-aeggf-gesundheitspraevention/
END:VEVENT
BEGIN:VEVENT
DTSTART;TZID=Europe/Berlin:20260616T132500
DTEND;TZID=Europe/Berlin:20260616T133000
DTSTAMP:20260422T104623
CREATED:20250910T221831Z
LAST-MODIFIED:20260422T081816Z
UID:24776-1781616300-1781616600@burggymnasium-friedberg.de
SUMMARY:Ende Noteneingabe
DESCRIPTION:
URL:https://burggymnasium-friedberg.de/termin/ende-noteneingabe-2/
END:VEVENT
BEGIN:VEVENT
DTSTART;VALUE=DATE:20260617
DTEND;VALUE=DATE:20260618
DTSTAMP:20260422T104623
CREATED:20260311T231814Z
LAST-MODIFIED:20260422T081816Z
UID:25655-1781654400-1781740799@burggymnasium-friedberg.de
SUMMARY:Q2: Gedenkstättenfahrt Osthofen
DESCRIPTION:
URL:https://burggymnasium-friedberg.de/termin/q2-gedenkstaettenfahrt-osthofen-2/
END:VEVENT
BEGIN:VEVENT
DTSTART;VALUE=DATE:20260618
DTEND;VALUE=DATE:20260619
DTSTAMP:20260422T104623
CREATED:20250823T071836Z
LAST-MODIFIED:20260422T081817Z
UID:24673-1781776800-1781784000@burggymnasium-friedberg.de
SUMMARY:Akademische Feier
DESCRIPTION:
URL:https://burggymnasium-friedberg.de/termin/akademische-feier/
END:VEVENT
BEGIN:VEVENT
DTSTART;TZID=Europe/Berlin:20260618T100000
DTEND;TZID=Europe/Berlin:20260618T120000
DTSTAMP:20260422T104623
CREATED:20260213T041908Z
LAST-MODIFIED:20260422T081817Z
UID:25433-1781776800-1781784000@burggymnasium-friedberg.de
SUMMARY:Akademische Feier
DESCRIPTION:
URL:https://burggymnasium-friedberg.de/termin/akademische-feier-2/
END:VEVENT
BEGIN:VEVENT
DTSTART;TZID=Europe/Berlin:20260618T133000
DTEND;TZID=Europe/Berlin:20260618T144500
DTSTAMP:20260422T104623
CREATED:20250825T231840Z
LAST-MODIFIED:20260422T081817Z
UID:24716-1781789400-1781793900@burggymnasium-friedberg.de
SUMMARY:Zulassungskonferenz
DESCRIPTION:
URL:https://burggymnasium-friedberg.de/termin/zulassungskonferenz-2/
END:VEVENT
BEGIN:VEVENT
DTSTART;TZID=Europe/Berlin:20260618T133000
DTEND;TZID=Europe/Berlin:20260618T144500
DTSTAMP:20260422T104623
CREATED:20260127T211829Z
LAST-MODIFIED:20260422T081817Z
UID:25380-1781789400-1781793900@burggymnasium-friedberg.de
SUMMARY:Zulassungskonferenz
DESCRIPTION:
URL:https://burggymnasium-friedberg.de/termin/zulassungskonferenz-3/
END:VEVENT
BEGIN:VEVENT
DTSTART;VALUE=DATE:20260622
DTEND;VALUE=DATE:20260627
DTSTAMP:20260422T104623
CREATED:20250823T071837Z
LAST-MODIFIED:20260422T081817Z
UID:24675-1782086400-1782518399@burggymnasium-friedberg.de
SUMMARY:WA-Woche (26.)
DESCRIPTION:Bei der 26. Woche handelt es sich um eine WA-Woche.
URL:https://burggymnasium-friedberg.de/termin/wa-woche-26/
END:VEVENT
BEGIN:VEVENT
DTSTART;TZID=Europe/Berlin:20260622T080000
DTEND;TZID=Europe/Berlin:20260622T093000
DTSTAMP:20260422T104623
CREATED:20260318T231826Z
LAST-MODIFIED:20260422T081817Z
UID:25707-1782115200-1782120600@burggymnasium-friedberg.de
SUMMARY:E1/2g ÄGGF Gesundheitsprävention
DESCRIPTION:
URL:https://burggymnasium-friedberg.de/termin/e1-2g-aeggf-gesundheitspraevention/
END:VEVENT
BEGIN:VEVENT
DTSTART;TZID=Europe/Berlin:20260622T094500
DTEND;TZID=Europe/Berlin:20260622T111500
DTSTAMP:20260422T104623
CREATED:20260318T231826Z
LAST-MODIFIED:20260422T081817Z
UID:25709-1782121500-1782126900@burggymnasium-friedberg.de
SUMMARY:E1/2h ÄGGF Gesundheitsprävention
DESCRIPTION:
URL:https://burggymnasium-friedberg.de/termin/e1-2h-aeggf-gesundheitspraevention/
END:VEVENT
BEGIN:VEVENT
DTSTART;TZID=Europe/Berlin:20260623T080000
DTEND;TZID=Europe/Berlin:20260623T093000
DTSTAMP:20260422T104623
CREATED:20260318T231826Z
LAST-MODIFIED:20260422T081818Z
UID:25711-1782201600-1782207000@burggymnasium-friedberg.de
SUMMARY:E1/2i ÄGGF Gesundheitsprävention
DESCRIPTION:
URL:https://burggymnasium-friedberg.de/termin/e1-2i-aeggf-gesundheitspraevention/
END:VEVENT
BEGIN:VEVENT
DTSTART;TZID=Europe/Berlin:20260623T094500
DTEND;TZID=Europe/Berlin:20260623T111500
DTSTAMP:20260422T104623
CREATED:20260318T231827Z
LAST-MODIFIED:20260422T081818Z
UID:25713-1782207900-1782213300@burggymnasium-friedberg.de
SUMMARY:E1/2j ÄGGF Gesundheitsprävention
DESCRIPTION:
URL:https://burggymnasium-friedberg.de/termin/e1-2j-aeggf-gesundheitspraevention/
END:VEVENT
BEGIN:VEVENT
DTSTART;VALUE=DATE:20260624
DTEND;VALUE=DATE:20260626
DTSTAMP:20260422T104623
CREATED:20250825T231841Z
LAST-MODIFIED:20260422T081818Z
UID:24718-1782259200-1782431999@burggymnasium-friedberg.de
SUMMARY:Q2: Wasserski-Exkursion
DESCRIPTION:
URL:https://burggymnasium-friedberg.de/termin/q2-wasserski-exkursion-2/
END:VEVENT
BEGIN:VEVENT
DTSTART;TZID=Europe/Berlin:20260625T131500
DTEND;TZID=Europe/Berlin:20260625T164500
DTSTAMP:20260422T104623
CREATED:20250825T231841Z
LAST-MODIFIED:20260422T081818Z
UID:24720-1782393300-1782405900@burggymnasium-friedberg.de
SUMMARY:Kollegiumsfeier
DESCRIPTION:
URL:https://burggymnasium-friedberg.de/termin/kollegiumsfeier-2/
END:VEVENT
BEGIN:VEVENT
DTSTART;TZID=Europe/Berlin:20260626T094500
DTEND;TZID=Europe/Berlin:20260626T103000
DTSTAMP:20260422T104623
CREATED:20250625T094819Z
LAST-MODIFIED:20260422T081818Z
UID:24354-1782467100-1782469800@burggymnasium-friedberg.de
SUMMARY:TG-Stunde: Zeugnisausgabe
DESCRIPTION:
URL:https://burggymnasium-friedberg.de/termin/tg-stunde-zeugnisausgabe/
END:VEVENT
BEGIN:VEVENT
DTSTART;TZID=Europe/Berlin:20260626T094500
DTEND;TZID=Europe/Berlin:20260626T103000
DTSTAMP:20260422T104623
CREATED:20260112T101830Z
LAST-MODIFIED:20260422T081818Z
UID:25311-1782467100-1782469800@burggymnasium-friedberg.de
SUMMARY:TG-Stunde: Zeugnisausgabe
DESCRIPTION:
URL:https://burggymnasium-friedberg.de/termin/tg-stunde-zeugnisausgabe-3/
END:VEVENT
BEGIN:VEVENT
DTSTART;TZID=Europe/Berlin:20260626T103000
DTEND;TZID=Europe/Berlin:20260626T235900
DTSTAMP:20260422T104623
CREATED:20250625T094819Z
LAST-MODIFIED:20260422T081819Z
UID:24356-1782469800-1782518340@burggymnasium-friedberg.de
SUMMARY:Ferienbeginn
DESCRIPTION:
URL:https://burggymnasium-friedberg.de/termin/ferienbeginn-7/
END:VEVENT
BEGIN:VEVENT
DTSTART;TZID=Europe/Berlin:20260626T103000
DTEND;TZID=Europe/Berlin:20260626T235900
DTSTAMP:20260422T104623
CREATED:20260312T111831Z
LAST-MODIFIED:20260422T081818Z
UID:25677-1782469800-1782518340@burggymnasium-friedberg.de
SUMMARY:Ferienbeginn
DESCRIPTION:
URL:https://burggymnasium-friedberg.de/termin/ferienbeginn-14/
END:VEVENT
BEGIN:VEVENT
DTSTART;VALUE=DATE:20260627
DTEND;VALUE=DATE:20260810
DTSTAMP:20260422T104623
CREATED:20250625T094819Z
LAST-MODIFIED:20260422T081819Z
UID:24358-1782518400-1786319999@burggymnasium-friedberg.de
SUMMARY:Sommerferien
DESCRIPTION:
URL:https://burggymnasium-friedberg.de/termin/sommerferien-3/
END:VEVENT
BEGIN:VEVENT
DTSTART;TZID=Europe/Berlin:20260807T100000
DTEND;TZID=Europe/Berlin:20260807T130000
DTSTAMP:20260422T104623
CREATED:20260305T231824Z
LAST-MODIFIED:20260422T081819Z
UID:25520-1786096800-1786107600@burggymnasium-friedberg.de
SUMMARY:DV zum Beginn des Schuljahres
DESCRIPTION:
URL:https://burggymnasium-friedberg.de/termin/dv-zum-beginn-des-schuljahres-3/
END:VEVENT
BEGIN:VEVENT
DTSTART;TZID=Europe/Berlin:20260810T080000
DTEND;TZID=Europe/Berlin:20260810T093000
DTSTAMP:20260422T104623
CREATED:20260305T231824Z
LAST-MODIFIED:20260422T081819Z
UID:25522-1786348800-1786354200@burggymnasium-friedberg.de
SUMMARY:Q1 & Q3: 1./2. TG-Stunden
DESCRIPTION:
URL:https://burggymnasium-friedberg.de/termin/q1-q3-1-2-tg-stunden-3/
END:VEVENT
BEGIN:VEVENT
DTSTART;TZID=Europe/Berlin:20260810T100000
DTEND;TZID=Europe/Berlin:20260810T110000
DTSTAMP:20260422T104623
CREATED:20260305T231825Z
LAST-MODIFIED:20260422T081819Z
UID:25524-1786356000-1786359600@burggymnasium-friedberg.de
SUMMARY:Aufnahmefeier E1
DESCRIPTION:
URL:https://burggymnasium-friedberg.de/termin/aufnahmefeier-e1-3/
END:VEVENT
BEGIN:VEVENT
DTSTART;TZID=Europe/Berlin:20260810T110000
DTEND;TZID=Europe/Berlin:20260810T130000
DTSTAMP:20260422T104623
CREATED:20260305T231825Z
LAST-MODIFIED:20260422T081820Z
UID:25526-1786359600-1786366800@burggymnasium-friedberg.de
SUMMARY:E1 - Klassenleitungsunterricht
DESCRIPTION:
URL:https://burggymnasium-friedberg.de/termin/e1-klassenleitungsunterricht-3/
END:VEVENT
BEGIN:VEVENT
DTSTART;TZID=Europe/Berlin:20260810T133000
DTEND;TZID=Europe/Berlin:20260814T164500
DTSTAMP:20260422T104623
CREATED:20260305T231825Z
LAST-MODIFIED:20260422T081820Z
UID:25528-1786368600-1786725900@burggymnasium-friedberg.de
SUMMARY:Fachkonferenzen - Nachmittagsunterricht entfällt
DESCRIPTION:
URL:https://burggymnasium-friedberg.de/termin/fachkonferenzen-nachmittagsunterricht-entfaellt-3/
END:VEVENT
BEGIN:VEVENT
DTSTART;TZID=Europe/Berlin:20260810T133000
DTEND;TZID=Europe/Berlin:20260814T164500
DTSTAMP:20260422T104623
CREATED:20260312T001834Z
LAST-MODIFIED:20260422T081820Z
UID:25667-1786368600-1786725900@burggymnasium-friedberg.de
SUMMARY:Fachkonferenzen - Nachmittagsunterricht entfällt
DESCRIPTION:
URL:https://burggymnasium-friedberg.de/termin/fachkonferenzen-nachmittagsunterricht-entfaellt-5/
END:VEVENT
BEGIN:VEVENT
DTSTART;TZID=Europe/Berlin:20260811T080000
DTEND;TZID=Europe/Berlin:20260811T130000
DTSTAMP:20260422T104623
CREATED:20260305T231825Z
LAST-MODIFIED:20260422T081820Z
UID:25530-1786435200-1786453200@burggymnasium-friedberg.de
SUMMARY:E1 - Klassenleitungsunterricht
DESCRIPTION:
URL:https://burggymnasium-friedberg.de/termin/e1-klassenleitungsunterricht-4/
END:VEVENT
BEGIN:VEVENT
DTSTART;TZID=Europe/Berlin:20260817T133000
DTEND;TZID=Europe/Berlin:20260817T164500
DTSTAMP:20260422T104623
CREATED:20260305T231825Z
LAST-MODIFIED:20260422T081820Z
UID:25532-1786973400-1786985100@burggymnasium-friedberg.de
SUMMARY:Koordinationstreffen Projektwoche E1
DESCRIPTION:
URL:https://burggymnasium-friedberg.de/termin/koordinationstreffen-projektwoche-e1-3/
END:VEVENT
BEGIN:VEVENT
DTSTART;TZID=Europe/Berlin:20260817T133000
DTEND;TZID=Europe/Berlin:20260817T164500
DTSTAMP:20260422T104623
CREATED:20260305T231826Z
LAST-MODIFIED:20260422T081821Z
UID:25534-1786973400-1786985100@burggymnasium-friedberg.de
SUMMARY:Koordinationstreffen Tutoren Q1
DESCRIPTION:
URL:https://burggymnasium-friedberg.de/termin/koordinationstreffen-tutoren-q1-2/
END:VEVENT
BEGIN:VEVENT
DTSTART;TZID=Europe/Berlin:20260817T133000
DTEND;TZID=Europe/Berlin:20260817T164500
DTSTAMP:20260422T104623
CREATED:20260311T131851Z
LAST-MODIFIED:20260422T081821Z
UID:25640-1786973400-1786985100@burggymnasium-friedberg.de
SUMMARY:Koordinationstreffen Tutoren Q1
DESCRIPTION:
URL:https://burggymnasium-friedberg.de/termin/koordinationstreffen-tutoren-q1-3/
END:VEVENT
BEGIN:VEVENT
DTSTART;TZID=Europe/Berlin:20260818T084500
DTEND;TZID=Europe/Berlin:20260818T093000
DTSTAMP:20260422T104623
CREATED:20260307T001815Z
LAST-MODIFIED:20260422T081821Z
UID:25601-1787042700-1787045400@burggymnasium-friedberg.de
SUMMARY:Informationsveranstaltung für E1
DESCRIPTION:
URL:https://burggymnasium-friedberg.de/termin/informationsveranstaltung-fuer-e1-3/
END:VEVENT
END:VCALENDAR