BEGIN:VCALENDAR
VERSION:2.0
PRODID:-//Burggymnasium Friedberg - ECPv6.10.2//NONSGML v1.0//EN
CALSCALE:GREGORIAN
METHOD:PUBLISH
X-WR-CALNAME:Burggymnasium Friedberg
X-ORIGINAL-URL:https://burggymnasium-friedberg.de
X-WR-CALDESC:Veranstaltungen für Burggymnasium Friedberg
REFRESH-INTERVAL;VALUE=DURATION:PT1H
X-Robots-Tag:noindex
X-PUBLISHED-TTL:PT1H
BEGIN:VTIMEZONE
TZID:Europe/Berlin
BEGIN:DAYLIGHT
TZOFFSETFROM:+0100
TZOFFSETTO:+0200
TZNAME:CEST
DTSTART:20240331T010000
END:DAYLIGHT
BEGIN:STANDARD
TZOFFSETFROM:+0200
TZOFFSETTO:+0100
TZNAME:CET
DTSTART:20241027T010000
END:STANDARD
BEGIN:DAYLIGHT
TZOFFSETFROM:+0100
TZOFFSETTO:+0200
TZNAME:CEST
DTSTART:20250330T010000
END:DAYLIGHT
BEGIN:STANDARD
TZOFFSETFROM:+0200
TZOFFSETTO:+0100
TZNAME:CET
DTSTART:20251026T010000
END:STANDARD
END:VTIMEZONE
BEGIN:VEVENT
DTSTART;VALUE=DATE:20241221
DTEND;VALUE=DATE:20250113
DTSTAMP:20260424T122250
CREATED:20250309T160052Z
LAST-MODIFIED:20250625T094746Z
UID:23559-1734739200-1736726399@burggymnasium-friedberg.de
SUMMARY:Weihnachtsferien
DESCRIPTION:
URL:https://burggymnasium-friedberg.de/termin/weihnachtsferien/
END:VEVENT
BEGIN:VEVENT
DTSTART;VALUE=DATE:20250113
DTEND;VALUE=DATE:20250118
DTSTAMP:20260424T122250
CREATED:20250309T160052Z
LAST-MODIFIED:20250625T094747Z
UID:23561-1736726400-1737158399@burggymnasium-friedberg.de
SUMMARY:WA-Woche (03.)
DESCRIPTION:Bei der 03. Woche handelt es sich um eine WA-Woche.
URL:https://burggymnasium-friedberg.de/termin/wa-woche-03/
END:VEVENT
BEGIN:VEVENT
DTSTART;TZID=Europe/Berlin:20250114T094500
DTEND;TZID=Europe/Berlin:20250114T111500
DTSTAMP:20260424T122250
CREATED:20250309T160052Z
LAST-MODIFIED:20250625T094747Z
UID:23563-1736847900-1736853300@burggymnasium-friedberg.de
SUMMARY:Nachschreibetermin schulweit
DESCRIPTION:
URL:https://burggymnasium-friedberg.de/termin/nachschreibetermin-schulweit/
END:VEVENT
BEGIN:VEVENT
DTSTART;TZID=Europe/Berlin:20250115T080000
DTEND;TZID=Europe/Berlin:20250115T111500
DTSTAMP:20260424T122250
CREATED:20250309T160052Z
LAST-MODIFIED:20250625T094747Z
UID:23565-1736928000-1736939700@burggymnasium-friedberg.de
SUMMARY:Suchtprävention E-Phase
DESCRIPTION:
URL:https://burggymnasium-friedberg.de/termin/suchtpraevention-e-phase/
END:VEVENT
BEGIN:VEVENT
DTSTART;TZID=Europe/Berlin:20250115T094500
DTEND;TZID=Europe/Berlin:20250115T111500
DTSTAMP:20260424T122250
CREATED:20250309T160053Z
LAST-MODIFIED:20250625T094747Z
UID:23567-1736934300-1736939700@burggymnasium-friedberg.de
SUMMARY:Steuerungsgruppe Schulentwicklung
DESCRIPTION:
URL:https://burggymnasium-friedberg.de/termin/steuerungsgruppe-schulentwicklung/
END:VEVENT
BEGIN:VEVENT
DTSTART;TZID=Europe/Berlin:20250115T121500
DTEND;TZID=Europe/Berlin:20250115T130000
DTSTAMP:20260424T122250
CREATED:20250309T160053Z
LAST-MODIFIED:20250625T094747Z
UID:23569-1736943300-1736946000@burggymnasium-friedberg.de
SUMMARY:TG-Stunde
DESCRIPTION:
URL:https://burggymnasium-friedberg.de/termin/tg-stunde-8/
END:VEVENT
BEGIN:VEVENT
DTSTART;TZID=Europe/Berlin:20250115T133000
DTEND;TZID=Europe/Berlin:20250115T170000
DTSTAMP:20260424T122250
CREATED:20250309T160053Z
LAST-MODIFIED:20250625T094747Z
UID:23571-1736947800-1736960400@burggymnasium-friedberg.de
SUMMARY:Lehrerfortbildung Erste Hilfe
DESCRIPTION:
URL:https://burggymnasium-friedberg.de/termin/lehrerfortbildung-erste-hilfe-3/
END:VEVENT
BEGIN:VEVENT
DTSTART;TZID=Europe/Berlin:20250116T080000
DTEND;TZID=Europe/Berlin:20250116T111500
DTSTAMP:20260424T122250
CREATED:20250309T160053Z
LAST-MODIFIED:20250625T094747Z
UID:23573-1737014400-1737026100@burggymnasium-friedberg.de
SUMMARY:Suchtprävention E-Phase
DESCRIPTION:
URL:https://burggymnasium-friedberg.de/termin/suchtpraevention-e-phase-2/
END:VEVENT
BEGIN:VEVENT
DTSTART;TZID=Europe/Berlin:20250116T133000
DTEND;TZID=Europe/Berlin:20250116T170000
DTSTAMP:20260424T122250
CREATED:20250309T160053Z
LAST-MODIFIED:20250625T094748Z
UID:23575-1737034200-1737046800@burggymnasium-friedberg.de
SUMMARY:Lehrerfortbildung Erste Hilfe
DESCRIPTION:
URL:https://burggymnasium-friedberg.de/termin/lehrerfortbildung-erste-hilfe-4/
END:VEVENT
BEGIN:VEVENT
DTSTART;TZID=Europe/Berlin:20250117T080000
DTEND;TZID=Europe/Berlin:20250117T113000
DTSTAMP:20260424T122250
CREATED:20250309T160054Z
LAST-MODIFIED:20250625T094748Z
UID:23577-1737100800-1737113400@burggymnasium-friedberg.de
SUMMARY:Suchtprävention E-Phase
DESCRIPTION:
URL:https://burggymnasium-friedberg.de/termin/suchtpraevention-e-phase-3/
END:VEVENT
BEGIN:VEVENT
DTSTART;VALUE=DATE:20250120
DTEND;VALUE=DATE:20250125
DTSTAMP:20260424T122250
CREATED:20250309T160054Z
LAST-MODIFIED:20250625T094748Z
UID:23581-1737331200-1737763199@burggymnasium-friedberg.de
SUMMARY:Schneesportwoche
DESCRIPTION:
URL:https://burggymnasium-friedberg.de/termin/schneesportwoche/
END:VEVENT
BEGIN:VEVENT
DTSTART;VALUE=DATE:20250120
DTEND;VALUE=DATE:20250125
DTSTAMP:20260424T122250
CREATED:20250309T160054Z
LAST-MODIFIED:20250625T094748Z
UID:23579-1737331200-1737763199@burggymnasium-friedberg.de
SUMMARY:WB-Woche (04.)
DESCRIPTION:Bei der 04. Woche handelt es sich um eine WB-Woche.
URL:https://burggymnasium-friedberg.de/termin/wb-woche-04/
END:VEVENT
BEGIN:VEVENT
DTSTART;VALUE=DATE:20250124
DTEND;VALUE=DATE:20250125
DTSTAMP:20260424T122250
CREATED:20250309T160055Z
LAST-MODIFIED:20250625T094748Z
UID:23583-1737676800-1737763199@burggymnasium-friedberg.de
SUMMARY:Ende Noteneintragung
DESCRIPTION:
URL:https://burggymnasium-friedberg.de/termin/ende-noteneintragung/
END:VEVENT
BEGIN:VEVENT
DTSTART;VALUE=DATE:20250126
DTEND;VALUE=DATE:20250130
DTSTAMP:20260424T122250
CREATED:20250309T160055Z
LAST-MODIFIED:20250625T094748Z
UID:23585-1737849600-1738195199@burggymnasium-friedberg.de
SUMMARY:Berlinfahrt PoWi-LK Q3
DESCRIPTION:
URL:https://burggymnasium-friedberg.de/termin/berlinfahrt-powi-lk-q3/
END:VEVENT
BEGIN:VEVENT
DTSTART;VALUE=DATE:20250127
DTEND;VALUE=DATE:20250201
DTSTAMP:20260424T122250
CREATED:20250309T160055Z
LAST-MODIFIED:20250625T094748Z
UID:23587-1737936000-1738367999@burggymnasium-friedberg.de
SUMMARY:WA-Woche (05.)
DESCRIPTION:Bei der 05. Woche handelt es sich um eine WA-Woche.
URL:https://burggymnasium-friedberg.de/termin/wa-woche-05/
END:VEVENT
BEGIN:VEVENT
DTSTART;VALUE=DATE:20250129
DTEND;VALUE=DATE:20250131
DTSTAMP:20260424T122250
CREATED:20250309T160056Z
LAST-MODIFIED:20250625T094748Z
UID:23589-1738108800-1738281599@burggymnasium-friedberg.de
SUMMARY:HIT Uni Gießen
DESCRIPTION:
URL:https://burggymnasium-friedberg.de/termin/hit-uni-giessen/
END:VEVENT
BEGIN:VEVENT
DTSTART;VALUE=DATE:20250129
DTEND;VALUE=DATE:20250131
DTSTAMP:20260424T122250
CREATED:20250309T160056Z
LAST-MODIFIED:20250625T094749Z
UID:23591-1738108800-1738281599@burggymnasium-friedberg.de
SUMMARY:Fachtage
DESCRIPTION:
URL:https://burggymnasium-friedberg.de/termin/fachtage/
END:VEVENT
BEGIN:VEVENT
DTSTART;TZID=Europe/Berlin:20250131T094500
DTEND;TZID=Europe/Berlin:20250131T103000
DTSTAMP:20260424T122250
CREATED:20250309T160056Z
LAST-MODIFIED:20250625T094749Z
UID:23593-1738316700-1738319400@burggymnasium-friedberg.de
SUMMARY:Zeugnisausgabe
DESCRIPTION:
URL:https://burggymnasium-friedberg.de/termin/zeugnisausgabe/
END:VEVENT
BEGIN:VEVENT
DTSTART;TZID=Europe/Berlin:20250131T094500
DTEND;TZID=Europe/Berlin:20250131T103000
DTSTAMP:20260424T122250
CREATED:20250309T160056Z
LAST-MODIFIED:20250625T094749Z
UID:23595-1738316700-1738319400@burggymnasium-friedberg.de
SUMMARY:TG-Stunde
DESCRIPTION:
URL:https://burggymnasium-friedberg.de/termin/tg-stunde-9/
END:VEVENT
END:VCALENDAR