BEGIN:VCALENDAR
VERSION:2.0
PRODID:-//Burggymnasium Friedberg - ECPv6.10.2//NONSGML v1.0//EN
CALSCALE:GREGORIAN
METHOD:PUBLISH
X-WR-CALNAME:Burggymnasium Friedberg
X-ORIGINAL-URL:https://burggymnasium-friedberg.de
X-WR-CALDESC:Veranstaltungen für Burggymnasium Friedberg
REFRESH-INTERVAL;VALUE=DURATION:PT1H
X-Robots-Tag:noindex
X-PUBLISHED-TTL:PT1H
BEGIN:VTIMEZONE
TZID:Europe/Berlin
BEGIN:DAYLIGHT
TZOFFSETFROM:+0100
TZOFFSETTO:+0200
TZNAME:CEST
DTSTART:20250330T010000
END:DAYLIGHT
BEGIN:STANDARD
TZOFFSETFROM:+0200
TZOFFSETTO:+0100
TZNAME:CET
DTSTART:20251026T010000
END:STANDARD
END:VTIMEZONE
BEGIN:VEVENT
DTSTART;VALUE=DATE:20250331
DTEND;VALUE=DATE:20250405
DTSTAMP:20260420T165138
CREATED:20250309T160106Z
LAST-MODIFIED:20250625T094754Z
UID:23669-1743379200-1743811199@burggymnasium-friedberg.de
SUMMARY:WB-Woche (14.)
DESCRIPTION:Bei der 14. Woche handelt es sich um eine WB-Woche.
URL:https://burggymnasium-friedberg.de/termin/wb-woche-14/
END:VEVENT
BEGIN:VEVENT
DTSTART;TZID=Europe/Berlin:20250402T170000
DTEND;TZID=Europe/Berlin:20250402T210000
DTSTAMP:20260420T165138
CREATED:20250309T160106Z
LAST-MODIFIED:20250625T094754Z
UID:23671-1743613200-1743627600@burggymnasium-friedberg.de
SUMMARY:Büffelnacht Q4
DESCRIPTION:
URL:https://burggymnasium-friedberg.de/termin/bueffelnacht-q4/
END:VEVENT
BEGIN:VEVENT
DTSTART;VALUE=DATE:20250404
DTEND;VALUE=DATE:20250405
DTSTAMP:20260420T165138
CREATED:20250309T160106Z
LAST-MODIFIED:20250625T094754Z
UID:23673-1743724800-1743811199@burggymnasium-friedberg.de
SUMMARY:Q4: Abschluss der Kursphase
DESCRIPTION:
URL:https://burggymnasium-friedberg.de/termin/q4-abschluss-der-kursphase/
END:VEVENT
BEGIN:VEVENT
DTSTART;TZID=Europe/Berlin:20250404T103000
DTEND;TZID=Europe/Berlin:20250404T235800
DTSTAMP:20260420T165138
CREATED:20250309T160107Z
LAST-MODIFIED:20250625T094754Z
UID:23675-1743762600-1743811080@burggymnasium-friedberg.de
SUMMARY:Ferienbeginn
DESCRIPTION:
URL:https://burggymnasium-friedberg.de/termin/ferienbeginn-3/
END:VEVENT
BEGIN:VEVENT
DTSTART;VALUE=DATE:20250405
DTEND;VALUE=DATE:20250422
DTSTAMP:20260420T165138
CREATED:20250309T160107Z
LAST-MODIFIED:20250625T094754Z
UID:23677-1743811200-1745279999@burggymnasium-friedberg.de
SUMMARY:Osterferien
DESCRIPTION:
URL:https://burggymnasium-friedberg.de/termin/osterferien/
END:VEVENT
BEGIN:VEVENT
DTSTART;VALUE=DATE:20250421
DTEND;VALUE=DATE:20250426
DTSTAMP:20260420T165138
CREATED:20250309T160107Z
LAST-MODIFIED:20250625T094755Z
UID:23679-1745193600-1745625599@burggymnasium-friedberg.de
SUMMARY:WA-Woche (17.)
DESCRIPTION:Bei der 17. Woche handelt es sich um eine WA-Woche.
URL:https://burggymnasium-friedberg.de/termin/wa-woche-17/
END:VEVENT
BEGIN:VEVENT
DTSTART;TZID=Europe/Berlin:20250422T170000
DTEND;TZID=Europe/Berlin:20250422T210000
DTSTAMP:20260420T165138
CREATED:20250309T160107Z
LAST-MODIFIED:20250625T094755Z
UID:23681-1745341200-1745355600@burggymnasium-friedberg.de
SUMMARY:Büffelnacht Q4
DESCRIPTION:
URL:https://burggymnasium-friedberg.de/termin/bueffelnacht-q4-2/
END:VEVENT
BEGIN:VEVENT
DTSTART;VALUE=DATE:20250424
DTEND;VALUE=DATE:20250425
DTSTAMP:20260420T165138
CREATED:20250309T160108Z
LAST-MODIFIED:20250625T094755Z
UID:23683-1745452800-1745539199@burggymnasium-friedberg.de
SUMMARY:Biologieprüfungen
DESCRIPTION:
URL:https://burggymnasium-friedberg.de/termin/biologiepruefungen/
END:VEVENT
BEGIN:VEVENT
DTSTART;VALUE=DATE:20250425
DTEND;VALUE=DATE:20250426
DTSTAMP:20260420T165138
CREATED:20250309T160108Z
LAST-MODIFIED:20250625T094755Z
UID:23685-1745539200-1745625599@burggymnasium-friedberg.de
SUMMARY:LK-Prüfungen Ku\, Mu\, PoWi\, G\, Sp
DESCRIPTION:
URL:https://burggymnasium-friedberg.de/termin/lk-pruefungen-ku-mu-powi-g-sp/
END:VEVENT
BEGIN:VEVENT
DTSTART;VALUE=DATE:20250428
DTEND;VALUE=DATE:20250429
DTSTAMP:20260420T165138
CREATED:20250309T160109Z
LAST-MODIFIED:20250625T094755Z
UID:23693-1745798400-1745884799@burggymnasium-friedberg.de
SUMMARY:Chemieprüfungen
DESCRIPTION:
URL:https://burggymnasium-friedberg.de/termin/chemiepruefungen/
END:VEVENT
BEGIN:VEVENT
DTSTART;VALUE=DATE:20250428
DTEND;VALUE=DATE:20250503
DTSTAMP:20260420T165138
CREATED:20250309T160108Z
LAST-MODIFIED:20250625T094755Z
UID:23687-1745798400-1746230399@burggymnasium-friedberg.de
SUMMARY:WB-Woche (18.)
DESCRIPTION:Bei der 18. Woche handelt es sich um eine WB-Woche.
URL:https://burggymnasium-friedberg.de/termin/wb-woche-18/
END:VEVENT
BEGIN:VEVENT
DTSTART;VALUE=DATE:20250428
DTEND;VALUE=DATE:20250503
DTSTAMP:20260420T165138
CREATED:20250309T160108Z
LAST-MODIFIED:20250625T094755Z
UID:23689-1745798400-1746230399@burggymnasium-friedberg.de
SUMMARY:Info Leistungsstand
DESCRIPTION:
URL:https://burggymnasium-friedberg.de/termin/info-leistungsstand/
END:VEVENT
BEGIN:VEVENT
DTSTART;VALUE=DATE:20250428
DTEND;VALUE=DATE:20250503
DTSTAMP:20260420T165138
CREATED:20250309T160109Z
LAST-MODIFIED:20250625T094755Z
UID:23691-1745798400-1746230399@burggymnasium-friedberg.de
SUMMARY:E2: Eintragung negativer Noten
DESCRIPTION:
URL:https://burggymnasium-friedberg.de/termin/e2-eintragung-negativer-noten/
END:VEVENT
BEGIN:VEVENT
DTSTART;TZID=Europe/Berlin:20250428T170000
DTEND;TZID=Europe/Berlin:20250428T210000
DTSTAMP:20260420T165138
CREATED:20250309T160109Z
LAST-MODIFIED:20250625T094756Z
UID:23695-1745859600-1745874000@burggymnasium-friedberg.de
SUMMARY:Büffelnacht Q4
DESCRIPTION:
URL:https://burggymnasium-friedberg.de/termin/bueffelnacht-q4-3/
END:VEVENT
BEGIN:VEVENT
DTSTART;VALUE=DATE:20250429
DTEND;VALUE=DATE:20250430
DTSTAMP:20260420T165138
CREATED:20250309T160109Z
LAST-MODIFIED:20250625T094756Z
UID:23697-1745884800-1745971199@burggymnasium-friedberg.de
SUMMARY:Deutschprüfungen
DESCRIPTION:
URL:https://burggymnasium-friedberg.de/termin/deutschpruefungen/
END:VEVENT
BEGIN:VEVENT
DTSTART;VALUE=DATE:20250430
DTEND;VALUE=DATE:20250501
DTSTAMP:20260420T165138
CREATED:20250309T160110Z
LAST-MODIFIED:20250625T094756Z
UID:23699-1745971200-1746057599@burggymnasium-friedberg.de
SUMMARY:Gk-Prüfungen Ku\, Mu\, G\, PoWi\, Eth\, Rel
DESCRIPTION:
URL:https://burggymnasium-friedberg.de/termin/gk-pruefungen-ku-mu-g-powi-eth-rel/
END:VEVENT
END:VCALENDAR