BEGIN:VCALENDAR
VERSION:2.0
PRODID:-//Burggymnasium Friedberg - ECPv6.10.2//NONSGML v1.0//EN
CALSCALE:GREGORIAN
METHOD:PUBLISH
X-ORIGINAL-URL:https://burggymnasium-friedberg.de
X-WR-CALDESC:Veranstaltungen für Burggymnasium Friedberg
REFRESH-INTERVAL;VALUE=DURATION:PT1H
X-Robots-Tag:noindex
X-PUBLISHED-TTL:PT1H
BEGIN:VTIMEZONE
TZID:Europe/Berlin
BEGIN:DAYLIGHT
TZOFFSETFROM:+0100
TZOFFSETTO:+0200
TZNAME:CEST
DTSTART:20250330T010000
END:DAYLIGHT
BEGIN:STANDARD
TZOFFSETFROM:+0200
TZOFFSETTO:+0100
TZNAME:CET
DTSTART:20251026T010000
END:STANDARD
END:VTIMEZONE
BEGIN:VEVENT
DTSTART;VALUE=DATE:20250901
DTEND;VALUE=DATE:20250906
DTSTAMP:20260420T110829
CREATED:20250823T071813Z
LAST-MODIFIED:20251005T231800Z
UID:24549-1756684800-1757116799@burggymnasium-friedberg.de
SUMMARY:WA-Woche (36.)
DESCRIPTION:Bei der 36. Woche handelt es sich um eine WA-Woche.
URL:https://burggymnasium-friedberg.de/termin/wa-woche-36/
END:VEVENT
BEGIN:VEVENT
DTSTART;TZID=Europe/Berlin:20250902T084500
DTEND;TZID=Europe/Berlin:20250902T093000
DTSTAMP:20260420T110829
CREATED:20250829T001811Z
LAST-MODIFIED:20251002T231801Z
UID:24730-1756802700-1756805400@burggymnasium-friedberg.de
SUMMARY:TG-Stunde
DESCRIPTION:
URL:https://burggymnasium-friedberg.de/termin/tg-stunde-10/
END:VEVENT
BEGIN:VEVENT
DTSTART;VALUE=DATE:20250903
DTEND;VALUE=DATE:20250904
DTSTAMP:20260420T110829
CREATED:20250605T182834Z
LAST-MODIFIED:20251003T231801Z
UID:24189-1756857600-1756943999@burggymnasium-friedberg.de
SUMMARY:AG Kompensation: Hospitation CBES
DESCRIPTION:
URL:https://burggymnasium-friedberg.de/termin/auftakt-ag-kompensation/
END:VEVENT
BEGIN:VEVENT
DTSTART;TZID=Europe/Berlin:20250904T190000
DTEND;TZID=Europe/Berlin:20250904T210000
DTSTAMP:20260420T110829
CREATED:20250605T182834Z
LAST-MODIFIED:20251004T231800Z
UID:24191-1757012400-1757019600@burggymnasium-friedberg.de
SUMMARY:Elternabend E1
DESCRIPTION:
URL:https://burggymnasium-friedberg.de/termin/elternabend-e1-2/
END:VEVENT
BEGIN:VEVENT
DTSTART;VALUE=DATE:20250905
DTEND;VALUE=DATE:20250911
DTSTAMP:20260420T110829
CREATED:20250605T182835Z
LAST-MODIFIED:20251010T231800Z
UID:24193-1757030400-1757548799@burggymnasium-friedberg.de
SUMMARY:Q3 Gedenkstättenfahrt Auschwitz
DESCRIPTION:
URL:https://burggymnasium-friedberg.de/termin/q3-gedenkstaettenfahrt-auschwitz/
END:VEVENT
BEGIN:VEVENT
DTSTART;TZID=Europe/Berlin:20250905T121500
DTEND;TZID=Europe/Berlin:20250905T164500
DTSTAMP:20260420T110829
CREATED:20250605T182835Z
LAST-MODIFIED:20251005T231801Z
UID:24195-1757074500-1757090700@burggymnasium-friedberg.de
SUMMARY:Kollegiumsausflug
DESCRIPTION:
URL:https://burggymnasium-friedberg.de/termin/kollegiumsausflug-2/
END:VEVENT
BEGIN:VEVENT
DTSTART;VALUE=DATE:20250908
DTEND;VALUE=DATE:20250913
DTSTAMP:20260420T110829
CREATED:20250823T071814Z
LAST-MODIFIED:20251012T231806Z
UID:24551-1757289600-1757721599@burggymnasium-friedberg.de
SUMMARY:WB-Woche (37.)
DESCRIPTION:Bei der 37. Woche handelt es sich um eine WB-Woche.
URL:https://burggymnasium-friedberg.de/termin/wb-woche-37/
END:VEVENT
BEGIN:VEVENT
DTSTART;TZID=Europe/Berlin:20250910T170000
DTEND;TZID=Europe/Berlin:20250910T190000
DTSTAMP:20260420T110829
CREATED:20250823T071815Z
LAST-MODIFIED:20251010T231800Z
UID:24553-1757523600-1757530800@burggymnasium-friedberg.de
SUMMARY:Q3 Sport LK: Nidda OCL über 5 km
DESCRIPTION:
URL:https://burggymnasium-friedberg.de/termin/q3-sport-lk-nidda-ocl-ueber-5-km/
END:VEVENT
BEGIN:VEVENT
DTSTART;TZID=Europe/Berlin:20250911T113000
DTEND;TZID=Europe/Berlin:20250911T130000
DTSTAMP:20260420T110829
CREATED:20250605T182835Z
LAST-MODIFIED:20251011T231759Z
UID:24197-1757590200-1757595600@burggymnasium-friedberg.de
SUMMARY:SV-Versammlung (inkl. Schuko-Wahl)
DESCRIPTION:
URL:https://burggymnasium-friedberg.de/termin/sv-versammlung-4/
END:VEVENT
BEGIN:VEVENT
DTSTART;VALUE=DATE:20250915
DTEND;VALUE=DATE:20250920
DTSTAMP:20260420T110829
CREATED:20250823T071815Z
LAST-MODIFIED:20251019T231801Z
UID:24555-1757894400-1758326399@burggymnasium-friedberg.de
SUMMARY:WA-Woche (38.)
DESCRIPTION:Bei der 38. Woche handelt es sich um eine WA-Woche.
URL:https://burggymnasium-friedberg.de/termin/wa-woche-38/
END:VEVENT
BEGIN:VEVENT
DTSTART;TZID=Europe/Berlin:20250916T190000
DTEND;TZID=Europe/Berlin:20250916T200000
DTSTAMP:20260420T110829
CREATED:20250823T071815Z
LAST-MODIFIED:20251016T232241Z
UID:24557-1758049200-1758052800@burggymnasium-friedberg.de
SUMMARY:Konzertabend Paris
DESCRIPTION:
URL:https://burggymnasium-friedberg.de/termin/konzertabend-paris/
END:VEVENT
BEGIN:VEVENT
DTSTART;TZID=Europe/Berlin:20250917T103000
DTEND;TZID=Europe/Berlin:20250917T111500
DTSTAMP:20260420T110829
CREATED:20250829T001812Z
LAST-MODIFIED:20251017T231810Z
UID:24732-1758105000-1758107700@burggymnasium-friedberg.de
SUMMARY:TG-Stunde
DESCRIPTION:
URL:https://burggymnasium-friedberg.de/termin/tg-stunde-11/
END:VEVENT
BEGIN:VEVENT
DTSTART;TZID=Europe/Berlin:20250917T190000
DTEND;TZID=Europe/Berlin:20250917T203000
DTSTAMP:20260420T110829
CREATED:20250625T094810Z
LAST-MODIFIED:20251017T231810Z
UID:24321-1758135600-1758141000@burggymnasium-friedberg.de
SUMMARY:Schulelternbeiratssitzung
DESCRIPTION:
URL:https://burggymnasium-friedberg.de/termin/schulelternbeiratssitzung-3/
END:VEVENT
BEGIN:VEVENT
DTSTART;VALUE=DATE:20250922
DTEND;VALUE=DATE:20250927
DTSTAMP:20260420T110829
CREATED:20250823T071816Z
LAST-MODIFIED:20251026T231801Z
UID:24559-1758499200-1758931199@burggymnasium-friedberg.de
SUMMARY:WB-Woche (39.)
DESCRIPTION:Bei der 39. Woche handelt es sich um eine WB-Woche.
URL:https://burggymnasium-friedberg.de/termin/wb-woche-39/
END:VEVENT
BEGIN:VEVENT
DTSTART;TZID=Europe/Berlin:20250922T080000
DTEND;TZID=Europe/Berlin:20250922T130000
DTSTAMP:20260420T110829
CREATED:20250823T071816Z
LAST-MODIFIED:20251022T231758Z
UID:24561-1758528000-1758546000@burggymnasium-friedberg.de
SUMMARY:E1: Workshop Rechtsextremismus in der Wetterau
DESCRIPTION:
URL:https://burggymnasium-friedberg.de/termin/e1-workshop-rechtsextremismus-in-der-wetterau/
END:VEVENT
BEGIN:VEVENT
DTSTART;TZID=Europe/Berlin:20250923T133000
DTEND;TZID=Europe/Berlin:20250923T164500
DTSTAMP:20260420T110829
CREATED:20250605T182837Z
LAST-MODIFIED:20251023T231804Z
UID:24211-1758634200-1758645900@burggymnasium-friedberg.de
SUMMARY:Gesamtkonferenz
DESCRIPTION:
URL:https://burggymnasium-friedberg.de/termin/gesamtkonferenz-3/
END:VEVENT
BEGIN:VEVENT
DTSTART;VALUE=DATE:20250925
DTEND;VALUE=DATE:20250926
DTSTAMP:20260420T110829
CREATED:20250625T094811Z
LAST-MODIFIED:20251025T231827Z
UID:24323-1758758400-1758844799@burggymnasium-friedberg.de
SUMMARY:Hospitation Dalton-Gymnasium
DESCRIPTION:
URL:https://burggymnasium-friedberg.de/termin/hospitation-dalton-gymnasium/
END:VEVENT
BEGIN:VEVENT
DTSTART;TZID=Europe/Berlin:20250926T113000
DTEND;TZID=Europe/Berlin:20250926T130000
DTSTAMP:20260420T110829
CREATED:20250919T001852Z
LAST-MODIFIED:20251026T231801Z
UID:24849-1758886200-1758891600@burggymnasium-friedberg.de
SUMMARY:SV-Wahlen (Neuwahl)
DESCRIPTION:
URL:https://burggymnasium-friedberg.de/termin/sv-wahlen-neuwahl/
END:VEVENT
BEGIN:VEVENT
DTSTART;VALUE=DATE:20250929
DTEND;VALUE=DATE:20251003
DTSTAMP:20260420T110829
CREATED:20250605T182835Z
LAST-MODIFIED:20251101T231825Z
UID:24199-1759104000-1759449599@burggymnasium-friedberg.de
SUMMARY:Projektwoche E1
DESCRIPTION:
URL:https://burggymnasium-friedberg.de/termin/projektwoche-e1-2/
END:VEVENT
BEGIN:VEVENT
DTSTART;VALUE=DATE:20250929
DTEND;VALUE=DATE:20251003
DTSTAMP:20260420T110829
CREATED:20250605T182836Z
LAST-MODIFIED:20251101T231825Z
UID:24203-1759104000-1759449599@burggymnasium-friedberg.de
SUMMARY:Studienfahrten Q3
DESCRIPTION:
URL:https://burggymnasium-friedberg.de/termin/studienfahrten-q3-2/
END:VEVENT
BEGIN:VEVENT
DTSTART;VALUE=DATE:20250929
DTEND;VALUE=DATE:20251003
DTSTAMP:20260420T110829
CREATED:20250605T182836Z
LAST-MODIFIED:20251101T231825Z
UID:24201-1759104000-1759449599@burggymnasium-friedberg.de
SUMMARY:Studienwoche Q1
DESCRIPTION:
URL:https://burggymnasium-friedberg.de/termin/studienwoche-q1-2/
END:VEVENT
BEGIN:VEVENT
DTSTART;VALUE=DATE:20250929
DTEND;VALUE=DATE:20251004
DTSTAMP:20260420T110829
CREATED:20250823T071817Z
LAST-MODIFIED:20251102T231951Z
UID:24563-1759104000-1759535999@burggymnasium-friedberg.de
SUMMARY:WA-Woche (40.)
DESCRIPTION:Bei der 40. Woche handelt es sich um eine WA-Woche.
URL:https://burggymnasium-friedberg.de/termin/wa-woche-40/
END:VEVENT
END:VCALENDAR