BEGIN:VCALENDAR
VERSION:2.0
PRODID:-//Burggymnasium Friedberg - ECPv6.10.2//NONSGML v1.0//EN
CALSCALE:GREGORIAN
METHOD:PUBLISH
X-WR-CALNAME:Burggymnasium Friedberg
X-ORIGINAL-URL:https://burggymnasium-friedberg.de
X-WR-CALDESC:Veranstaltungen für Burggymnasium Friedberg
REFRESH-INTERVAL;VALUE=DURATION:PT1H
X-Robots-Tag:noindex
X-PUBLISHED-TTL:PT1H
BEGIN:VTIMEZONE
TZID:Europe/Berlin
BEGIN:DAYLIGHT
TZOFFSETFROM:+0100
TZOFFSETTO:+0200
TZNAME:CEST
DTSTART:20260329T010000
END:DAYLIGHT
BEGIN:STANDARD
TZOFFSETFROM:+0200
TZOFFSETTO:+0100
TZNAME:CET
DTSTART:20261025T010000
END:STANDARD
END:VTIMEZONE
BEGIN:VEVENT
DTSTART;TZID=Europe/Berlin:20260903T113000
DTEND;TZID=Europe/Berlin:20260903T130000
DTSTAMP:20260424T122245
CREATED:20260307T001816Z
LAST-MODIFIED:20260424T101822Z
UID:25607-1788435000-1788440400@burggymnasium-friedberg.de
SUMMARY:SV-Versammlung (inkl. Schuko-Wahl)
DESCRIPTION:
URL:https://burggymnasium-friedberg.de/termin/sv-versammlung-inkl-schuko-wahl/
END:VEVENT
BEGIN:VEVENT
DTSTART;TZID=Europe/Berlin:20260909T190000
DTEND;TZID=Europe/Berlin:20260909T203000
DTSTAMP:20260424T122245
CREATED:20260307T001816Z
LAST-MODIFIED:20260424T101822Z
UID:25609-1788980400-1788985800@burggymnasium-friedberg.de
SUMMARY:Schulelternbeiratssitzung
DESCRIPTION:
URL:https://burggymnasium-friedberg.de/termin/schulelternbeiratssitzung-4/
END:VEVENT
BEGIN:VEVENT
DTSTART;TZID=Europe/Berlin:20260915T133000
DTEND;TZID=Europe/Berlin:20260915T164500
DTSTAMP:20260424T122245
CREATED:20260311T231818Z
LAST-MODIFIED:20260424T101823Z
UID:25657-1789479000-1789490700@burggymnasium-friedberg.de
SUMMARY:Gesamtkonferenz
DESCRIPTION:
URL:https://burggymnasium-friedberg.de/termin/gesamtkonferenz-6/
END:VEVENT
BEGIN:VEVENT
DTSTART;VALUE=DATE:20260928
DTEND;VALUE=DATE:20261003
DTSTAMP:20260424T122245
CREATED:20260307T001816Z
LAST-MODIFIED:20260424T101823Z
UID:25611-1790553600-1790985599@burggymnasium-friedberg.de
SUMMARY:Burgwoche: Projektwoche E1 und Q1\, Studienfahrten Q3
DESCRIPTION:
URL:https://burggymnasium-friedberg.de/termin/projektwoche-e1-3/
END:VEVENT
BEGIN:VEVENT
DTSTART;VALUE=DATE:20260928
DTEND;VALUE=DATE:20261003
DTSTAMP:20260424T122245
CREATED:20260307T001816Z
LAST-MODIFIED:20260316T231813Z
UID:25613-1790553600-1790985599@burggymnasium-friedberg.de
SUMMARY:Studienfahrten Q3
DESCRIPTION:
URL:https://burggymnasium-friedberg.de/termin/studienfahrten-q3-3/
END:VEVENT
BEGIN:VEVENT
DTSTART;VALUE=DATE:20260928
DTEND;VALUE=DATE:20261003
DTSTAMP:20260424T122245
CREATED:20260307T001817Z
LAST-MODIFIED:20260316T231813Z
UID:25615-1790553600-1790985599@burggymnasium-friedberg.de
SUMMARY:Studienwoche Q1
DESCRIPTION:
URL:https://burggymnasium-friedberg.de/termin/studienwoche-q1-3/
END:VEVENT
BEGIN:VEVENT
DTSTART;VALUE=DATE:20260928
DTEND;VALUE=DATE:20261003
DTSTAMP:20260424T122245
CREATED:20260307T081832Z
LAST-MODIFIED:20260316T231813Z
UID:25627-1790553600-1790985599@burggymnasium-friedberg.de
SUMMARY:Studienwoche Q1
DESCRIPTION:
URL:https://burggymnasium-friedberg.de/termin/studienwoche-q1-4/
END:VEVENT
END:VCALENDAR